BEGIN:VCALENDAR
VERSION:2.0
PRODID:-//Diffusion Events - ECPv6.15.20//NONSGML v1.0//EN
CALSCALE:GREGORIAN
METHOD:PUBLISH
X-WR-CALNAME:Diffusion Events
X-ORIGINAL-URL:https://diffusionevent.fr
X-WR-CALDESC:Évènements pour Diffusion Events
REFRESH-INTERVAL;VALUE=DURATION:PT1H
X-Robots-Tag:noindex
X-PUBLISHED-TTL:PT1H
BEGIN:VTIMEZONE
TZID:Europe/Paris
BEGIN:DAYLIGHT
TZOFFSETFROM:+0100
TZOFFSETTO:+0200
TZNAME:CEST
DTSTART:20240331T010000
END:DAYLIGHT
BEGIN:STANDARD
TZOFFSETFROM:+0200
TZOFFSETTO:+0100
TZNAME:CET
DTSTART:20241027T010000
END:STANDARD
BEGIN:DAYLIGHT
TZOFFSETFROM:+0100
TZOFFSETTO:+0200
TZNAME:CEST
DTSTART:20250330T010000
END:DAYLIGHT
BEGIN:STANDARD
TZOFFSETFROM:+0200
TZOFFSETTO:+0100
TZNAME:CET
DTSTART:20251026T010000
END:STANDARD
BEGIN:DAYLIGHT
TZOFFSETFROM:+0100
TZOFFSETTO:+0200
TZNAME:CEST
DTSTART:20260329T010000
END:DAYLIGHT
BEGIN:STANDARD
TZOFFSETFROM:+0200
TZOFFSETTO:+0100
TZNAME:CET
DTSTART:20261025T010000
END:STANDARD
END:VTIMEZONE
BEGIN:VEVENT
DTSTART;TZID=Europe/Paris:20250913T183000
DTEND;TZID=Europe/Paris:20250913T183000
DTSTAMP:20260421T123220
CREATED:20250821T154234Z
LAST-MODIFIED:20250821T154532Z
UID:1215-1757788200-1757788200@diffusionevent.fr
SUMMARY:Mister CIV 2025 - La grande Finale
DESCRIPTION:Découvrez la Grande Finale de Mister CIV 2025 qui se déroulera le 13 Septembre 2025 à la Salle Le Cube Garges à partir de 18h30.
URL:https://diffusionevent.fr/event/mister-civ-2025/
LOCATION:Salle le Cube Garges\, 40 Avenue du Général de Gaulle\, Garges-lès-Gonesse\, 95140\, France
CATEGORIES:Cérémonie
ATTACH;FMTTYPE=image/jpeg:https://diffusionevent.fr/wp-content/uploads/2025/08/affiche-mister-civ-scaled.jpg
ORGANIZER;CN="Diffusion Events":MAILTO:contact.diffusionevents@gmail.com
END:VEVENT
END:VCALENDAR